BEGIN:VCALENDAR
VERSION:2.0
PRODID:-//Texas Health Institute - ECPv6.15.13//NONSGML v1.0//EN
CALSCALE:GREGORIAN
METHOD:PUBLISH
X-ORIGINAL-URL:https://texashealthinstitute.org
X-WR-CALDESC:Events for Texas Health Institute
REFRESH-INTERVAL;VALUE=DURATION:PT1H
X-Robots-Tag:noindex
X-PUBLISHED-TTL:PT1H
BEGIN:VTIMEZONE
TZID:UTC
BEGIN:STANDARD
TZOFFSETFROM:+0000
TZOFFSETTO:+0000
TZNAME:UTC
DTSTART:20230101T000000
END:STANDARD
END:VTIMEZONE
BEGIN:VEVENT
DTSTART;TZID=UTC:20241205T090000
DTEND;TZID=UTC:20241205T160000
DTSTAMP:20260421T042553
CREATED:20240830T033852Z
LAST-MODIFIED:20241210T191410Z
UID:9019-1733389200-1733414400@texashealthinstitute.org
SUMMARY:Texas Health Policy Forum
DESCRIPTION:We are proud of the many strengths that make Texas a desirable place to live\, work\, and play. However\, the state of health and healthcare in Texas is in critical condition.  The Commonwealth Fund ranked Texas as 48th in the nation on state health system performance and America’s Health Rankings measured Texas as 39th on overall health rankings. \nJoin us for the Texas Health Policy Forum to connect and create change for the state of health and healthcare in Texas! At the forum\, thought leaders from diverse backgrounds will identify common goals\, share perspectives\, and foster alignment on recommendations to address the state’s pressing health challenges. Together\, we will advance broadly shared policy priorities related to population health\, access to care\, and payment reform to be addressed during the 89th legislative session. \nIn a state as socioeconomically\, culturally\, and politically diverse as Texas\, solving big problems requires meaningful dialogue and collaboration.
URL:https://texashealthinstitute.org/event/texas-health-policy-forum/
ATTACH;FMTTYPE=image/jpeg:https://texashealthinstitute.org/wp-content/uploads/2020/12/Texas-Health-Policy-Forum-2024-WB-600x600-1.jpg
END:VEVENT
END:VCALENDAR